BEGIN:VCALENDAR
VERSION:2.0
PRODID:-//eventon.com NONSGML v1.0//EN
CALSCALE:GREGORIAN
METHOD:PUBLISH
BEGIN:VEVENT
UID:69ecac64d7be7
DTSTAMP:20260425T115828Z
DTSTART:20190214T160000Z
DTEND:20190214T173000Z
LOCATION:
SUMMARY:Free webinar: Drone operations productivity is reaching new levels in agriculture applications
DESCRIPTION:With the birth of new kinds ofÂ UAV solutions\,  drone producti
 vity is reaching never performed before efficiency. In this webinarÂ LÃ©naÃ
 ¯c Grignard â€“Â Agriculture and Forestry Product Manager atÂ Â Delair\,  a
 ndÂ Emily Ciesielski â€“Â Sales Manager atÂ MicaSense\,  will unveil not on
 ly how and why latestÂ fixed-wing drones are now becoming a user-friendly t
 ool in agriculture\,  but also[..]\nhttps://delair.aero/upcoming-events/fre
 e-webinar-drone-operations-productivity-is-reaching-new-levels-in-agricultu
 re-applications/
URL:https://delair.aero/upcoming-events/free-webinar-drone-operations-productivity-is-reaching-new-levels-in-agriculture-applications/
END:VEVENT
END:VCALENDAR